BEGIN:VCALENDAR
VERSION:2.0
PRODID:-//Friends of the Arcata Marsh - ECPv6.2.0//NONSGML v1.0//EN
CALSCALE:GREGORIAN
METHOD:PUBLISH
X-ORIGINAL-URL:https://www.arcatamarshfriends.org
X-WR-CALDESC:Events for Friends of the Arcata Marsh
REFRESH-INTERVAL;VALUE=DURATION:PT1H
X-Robots-Tag:noindex
X-PUBLISHED-TTL:PT1H
BEGIN:VTIMEZONE
TZID:America/Tijuana
BEGIN:DAYLIGHT
TZOFFSETFROM:-0800
TZOFFSETTO:-0700
TZNAME:PDT
DTSTART:20230312T100000
END:DAYLIGHT
BEGIN:STANDARD
TZOFFSETFROM:-0700
TZOFFSETTO:-0800
TZNAME:PST
DTSTART:20231105T090000
END:STANDARD
END:VTIMEZONE
BEGIN:VEVENT
DTSTART;TZID=America/Tijuana:20230429T083000
DTEND;TZID=America/Tijuana:20230507T153000
DTSTAMP:20260419T173435
CREATED:20230404T143829Z
LAST-MODIFIED:20230406T203121Z
UID:2079-1682757000-1683473400@www.arcatamarshfriends.org
SUMMARY:Arcata Marsh Docent Training
DESCRIPTION:If you are interested in managing the front desk at Arcata Marsh Interpretive Center (AMIC); being a Roving Naturalist; or guiding weekly Saturday tours\, thematic tours\, or school groups\, here is your opportunity to train with experts and practitioners. \nA four-day series of workshops on two consecutive weekends will get you out on the trails\, interacting with specialists\, and meeting others with a passion for the Marsh.  \nPick up registration form at AMIC or at the FOAM booth at Godwit Days. LAST DAY TO REGISTER FRIDAY\, APRIL 21 \nSchedule \nMeet at AMIC\, 569 South G Street\, Arcata \n\nSaturday\, April 22\, 10-11 a.m. Orientation\nSaturday\, April 29\, 8:30 a.m.-3:30 pm Wiyot History\, History\, and Interpretation\nSunday\, April 30\, 8:30 a.m.-3:30 pm  Marsh Flora\nSaturday\, May 6\, 8:30 a.m.-3:30 pm Marsh Fauna\nSunday\, May 7\, 8:30 a.m.-3:30 pm Wastewater\, Wetlands\, and Experiential Education\n\nRegistration \n\n$25 per person\, cash or check made out to FOAM; fee includes two books\, a guided notebook\, a Marsh information PDF. (Two scholarships are available\, email lynn@arcatamarshfriends.org for information.)\n20 participants will be accepted\, on a first-come\, first-served basis.\nTurn in registration forms at AMIC or at the FOAM table at Godwit Days by Saturday\, April 22.\nUpon registration\, pick up City of Arcata volunteer forms to bring to the first day of training.
URL:https://www.arcatamarshfriends.org/events/arcata-marsh-docent-training/
END:VEVENT
END:VCALENDAR